BEGIN:VCALENDAR
VERSION:2.0
PRODID:-//ChamberMaster//Event Calendar 2.0//EN
METHOD:PUBLISH
X-PUBLISHED-TTL:P3D
REFRESH-INTERVAL:P3D
CALSCALE:GREGORIAN
BEGIN:VEVENT
DTSTART:20200109T173000Z
DTEND:20200109T190000Z
X-MICROSOFT-CDO-ALLDAYEVENT:FALSE
SUMMARY:Leading Partner Lunch
DESCRIPTION:Please register or decline your attendance below.  *Lunch will only be ordered for those who respond with their attendance.
X-ALT-DESC;FMTTYPE=text/html:Please register or decline your attendance below.&nbsp\; *Lunch will only be ordered for those who respond with their attendance.
LOCATION:
UID:e.1421.6513
SEQUENCE:3
DTSTAMP:20260423T112512Z
URL:https://business.capechamber.com/events/details/leading-partner-lunch-6513
END:VEVENT

END:VCALENDAR
