BEGIN:VCALENDAR
VERSION:2.0
PRODID:-//ChamberMaster//Event Calendar 2.0//EN
METHOD:PUBLISH
X-PUBLISHED-TTL:P3D
REFRESH-INTERVAL:P3D
CALSCALE:GREGORIAN
BEGIN:VEVENT
DTSTART:20180322T150000Z
DTEND:20180322T153000Z
X-MICROSOFT-CDO-ALLDAYEVENT:FALSE
SUMMARY:Legacy Hospice Ribbon Cutting
DESCRIPTION:Join us in celebrating Legacy Hospice's grand opening of their Cape Girardeau location!
X-ALT-DESC;FMTTYPE=text/html:Join us in celebrating Legacy Hospice&#39\;s grand opening of their Cape Girardeau&nbsp\;location!
LOCATION:1435 N Mount Auburn Rd.\, Suite 201 Cape Girardeau\, MO
UID:e.1421.3916
SEQUENCE:3
DTSTAMP:20260423T222200Z
URL:https://business.capechamber.com/events/details/legacy-hospice-ribbon-cutting-3916
END:VEVENT

END:VCALENDAR
