BEGIN:VCALENDAR
VERSION:2.0
PRODID:-//ChamberMaster//Event Calendar 2.0//EN
METHOD:PUBLISH
X-PUBLISHED-TTL:P3D
REFRESH-INTERVAL:P3D
CALSCALE:GREGORIAN
BEGIN:VEVENT
DTSTART:20180208T170000Z
DTEND:20180209T053000Z
X-MICROSOFT-CDO-ALLDAYEVENT:FALSE
SUMMARY:Legends Cape Girardeau Ribbon Cutting
DESCRIPTION:Join us as we celebrate the grand opening of Legend's Cape Girardeau!\n\nLunch will be provided for all attending.
X-ALT-DESC;FMTTYPE=text/html:Join us as we celebrate the grand opening of Legend&#39\;s Cape Girardeau!<br />\nLunch will be provided for all attending.&nbsp\;
LOCATION:2070 N. Sprigg St. Cape Girardeau\, MO
UID:e.1421.2050
SEQUENCE:3
DTSTAMP:20260423T222206Z
URL:https://business.capechamber.com/events/details/legends-cape-girardeau-ribbon-cutting-2050
END:VEVENT

END:VCALENDAR
