BEGIN:VCALENDAR
VERSION:2.0
PRODID:-//ChamberMaster//Event Calendar 2.0//EN
METHOD:PUBLISH
X-PUBLISHED-TTL:P3D
REFRESH-INTERVAL:P3D
CALSCALE:GREGORIAN
BEGIN:VEVENT
DTSTART:20181012T130000Z
DTEND:20181012T201500Z
X-MICROSOFT-CDO-ALLDAYEVENT:FALSE
SUMMARY:Live2Lead Southeast Missouri
DESCRIPTION:Live2Lead Southeast Missouri is a live simulcast leader development experience designed to equip you with new perspectives\, practical tools and key takeaways. You'll breathe new life into your leadership during this information-packed simulcast. Learn from world-class leadership experts and return to your office ready to implement your new action plan and lead with renewed passion and commitment.\n\n			\n\n			Following lunch\, participants will play The John Maxwell Team Leadership Game\, facilitated by Jeff & Tracey Glenn\, Certified Coaches with the John Maxwell Team. The Leadership Game is a fun and innovative resource based on the teachings of John Maxwell. The game will help YOU increase your leadership value within your organization or business. By playing this game\, you will be able to raise the leadership awareness of your team\, clients\, and coworkers and introduce the timeless leadership principles that will bring about positive change through communication and connection!\n\n			\n\n			This Live Simulcast has been approved for .35 Continuing Education Units through the University of North Georgia and 3.75 Professional Development Credits through the Society for Human Resource Management.\n\n			\n\n			Register NOW at www.glennpr.com
X-ALT-DESC;FMTTYPE=text/html:<table align="left" border="0" cellpadding="0" cellspacing="0" style="background:white\; border-collapse:collapse\; margin-left:-2.25pt\; margin-right:-2.25pt\; width:590px">\n	<tbody>\n		<tr>\n			<td><span style="color:#555555"><span style="font-family:helvetica neue"><span style="font-size:11.5pt">Live2Lead Southeast Missouri is a live simulcast leader development experience designed to equip you with new perspectives\, practical tools and key takeaways. You&rsquo\;ll breathe new life into your leadership during this information-packed simulcast. Learn from world-class leadership experts and return to your office ready to implement your new action plan and lead with renewed passion and commitment.</span></span></span><br />\n			<br />\n			<span style="color:#555555"><span style="font-family:helvetica neue"><span style="font-size:11.5pt">Following lunch\, participants will play The John Maxwell Team Leadership Game\, facilitated by Jeff &amp\; Tracey Glenn\, Certified Coaches with the John Maxwell Team. The Leadership Game is a fun and innovative resource based on the teachings of John Maxwell. The game will help YOU increase your leadership value within your organization or business. By playing this game\, you will be able to raise the leadership awareness of your team\, clients\, and coworkers and introduce the timeless leadership principles that will bring about positive change through communication and connection!</span></span></span><br />\n			<br />\n			<em><span style="color:#555555"><span style="font-family:helvetica neue"><span style="font-size:11.5pt">This Live Simulcast has been approved for .35 Continuing Education Units through the University of North Georgia and 3.75 Professional Development Credits through the Society for Human Resource Management.</span></span></span></em><br />\n			<br />\n			<strong><span style="color:#555555"><span style="font-family:helvetica neue"><span style="font-size:11.5pt">Register NOW at <a href="http://www.glennpr.com" target="_blank">www.glennpr.com</a></span></span></span></strong></td>\n		</tr>\n	</tbody>\n</table>\n
LOCATION:Montgomery Bank Conference & Training Center 526 West Main\, Jackson\, Missouri 63755
UID:e.1421.5657
SEQUENCE:3
DTSTAMP:20260424T090438Z
URL:https://business.capechamber.com/events/details/live2lead-southeast-missouri-5657
END:VEVENT

END:VCALENDAR
