BEGIN:VCALENDAR
VERSION:2.0
PRODID:-//ChamberMaster//Event Calendar 2.0//EN
METHOD:PUBLISH
X-PUBLISHED-TTL:P3D
REFRESH-INTERVAL:P3D
CALSCALE:GREGORIAN
BEGIN:VEVENT
DTSTART:20171101T160000Z
DTEND:20171101T180000Z
X-MICROSOFT-CDO-ALLDAYEVENT:FALSE
SUMMARY:Livestream Workshop: Getting Your Business Ready for the Holidays
DESCRIPTION:The Small Business Administration\, Google\, Facebook\, Square\, and Constant Contact have teamed up to help small businesses get online and grow with a free holiday\, livestream workshop\, and the Cape Chamber\, Old Town Cape\, and Small Business & Technology Development Center are hosting a viewing party for small businesses.\n\n\n\nArea small businesses are invited to attend the Getting Your Business Ready for the Holidays livestream workshop on November 1\, 2017 from 11:00 a.m. - 1:00 p.m. at the Cape Chamber office. The workshop is free to attend with lunch provided.\n\n\n\nSmall businesses are the growth engine of our economy\, creating 2 out of 3 net new jobs\, and businesses that are online grow 40% faster than those that aren't. This free workshop will help small businesses connect with more customers by teaching businesses everything from search engine optimization (SEO) best practices\, email marketing do's and don'ts\, how to reach customers with mobile and video\, and more.\n\n\n\nRegister here
X-ALT-DESC;FMTTYPE=text/html:The Small Business Administration\, Google\, Facebook\, Square\, and Constant Contact have teamed up to help small businesses get online and grow with a free holiday\, livestream workshop\, and the Cape&nbsp\;Chamber\, Old Town Cape\, and Small Business &amp\; Technology Development Center are hosting a viewing party for small businesses.<br />\n<br />\nArea small businesses are invited to attend the Getting Your Business Ready for the Holidays livestream workshop on November 1\, 2017 from 11:00 a.m. - 1:00 p.m. at the Cape Chamber office. The workshop is free to attend with lunch provided.<br />\n<br />\nSmall businesses are the growth engine of our economy\, creating 2 out of 3 net new jobs\, and businesses that are online grow 40% faster than those that aren&rsquo\;t. This free workshop will help small businesses connect with more customers by teaching businesses everything from search engine optimization (SEO) best practices\, email marketing do&#39\;s and don&#39\;ts\, how to reach customers with mobile and video\, and more.<br />\n<br />\n<a href="https://docs.google.com/forms/d/e/1FAIpQLSdQ55saALohZ65vd-NZO-b-d0SxYBUiNzsmAQGDH5Js2rZYRw/viewform">Register here</a>
LOCATION:220 N. Fountain St. Cape Girardeau\, MO
UID:e.1421.1815
SEQUENCE:3
DTSTAMP:20260423T155232Z
URL:https://business.capechamber.com/events/details/livestream-workshop-getting-your-business-ready-for-the-holidays-1815
END:VEVENT

END:VCALENDAR
