BEGIN:VCALENDAR
VERSION:2.0
PRODID:-//ChamberMaster//Event Calendar 2.0//EN
METHOD:PUBLISH
X-PUBLISHED-TTL:P3D
REFRESH-INTERVAL:P3D
CALSCALE:GREGORIAN
BEGIN:VEVENT
DTSTART:20181130T220000Z
DTEND:20181130T223000Z
X-MICROSOFT-CDO-ALLDAYEVENT:FALSE
SUMMARY:Lloyd's Place Ribbon Cutting
DESCRIPTION:Join us as we celebrate the grand opening of Lloyd's Place with a ribbon cutting!
X-ALT-DESC;FMTTYPE=text/html:Join us as we celebrate the grand opening of Lloyd&#39\;s Place with a ribbon cutting!
LOCATION:123 S High Street Jackson\, MO
UID:e.1421.5699
SEQUENCE:3
DTSTAMP:20260424T090548Z
URL:https://business.capechamber.com/events/details/lloyd-s-place-ribbon-cutting-5699
END:VEVENT

END:VCALENDAR
