BEGIN:VCALENDAR
VERSION:2.0
PRODID:-//ChamberMaster//Event Calendar 2.0//EN
METHOD:PUBLISH
X-PUBLISHED-TTL:P3D
REFRESH-INTERVAL:P3D
CALSCALE:GREGORIAN
BEGIN:VEVENT
DTSTART:20170908T193000Z
DTEND:20170908T200000Z
X-MICROSOFT-CDO-ALLDAYEVENT:FALSE
SUMMARY:Lorimer School / City Hall Cake Cutting
DESCRIPTION:Join us as we help celebrate Lorimer School's 80th birthday with a cake cutting!
X-ALT-DESC;FMTTYPE=text/html:Join us as we help celebrate Lorimer School&#39\;s 80th birthday with a cake cutting!
LOCATION:401 Independence St. Cape Girardeau\, MO
UID:e.1421.1793
SEQUENCE:3
DTSTAMP:20260423T124537Z
URL:https://business.capechamber.com/events/details/lorimer-school-city-hall-cake-cutting-1793
END:VEVENT

END:VCALENDAR
