BEGIN:VCALENDAR
VERSION:2.0
PRODID:-//ChamberMaster//Event Calendar 2.0//EN
METHOD:PUBLISH
X-PUBLISHED-TTL:P3D
REFRESH-INTERVAL:P3D
CALSCALE:GREGORIAN
BEGIN:VEVENT
DTSTART:20180816T163000Z
DTEND:20180816T180000Z
X-MICROSOFT-CDO-ALLDAYEVENT:FALSE
SUMMARY:Lunch & Learn - TRACOM SOCIAL STYLES
DESCRIPTION:A brief overview of the globally proven SOCIAL STYLES program developed by the TRACOM Group - The Social Intelligence Company used by Fortune 500 companies.  This Wall Street utilized resource is being presented by Matt Henson\, President of M.W. Henson & Associates\, LLC who is a Master Certified Facilitator.   With over 2 years working with one of the Big Four financial services firms\, Matt is able to share his experience and access to Wall Street learning back home on Main Street.\n\n\n\nLunch is provided but REGISTRATION IS REQUIRED.  Space is limited.  Register at mwhenson.com
X-ALT-DESC;FMTTYPE=text/html:A brief overview of the globally proven SOCIAL STYLES program developed by the TRACOM Group - The Social Intelligence Company used by Fortune 500 companies.&nbsp\; This Wall Street utilized&nbsp\;resource is being presented by Matt Henson\, President of M.W. Henson &amp\; Associates\, LLC who is a Master Certified Facilitator.&nbsp\; &nbsp\;With over 2 years working with one of the Big Four financial services firms\, Matt is able to share his experience and access to Wall Street learning back home on Main Street.<br />\n<br />\nLunch is provided but REGISTRATION IS REQUIRED.&nbsp\; Space is limited.&nbsp\; Register at <a href="http://mwhenson.com">mwhenson.com</a>&nbsp\;
LOCATION:Cape Chamber Regional Development Center 220 North Fountain Street Cape Girardeau\, MO 63701
UID:e.1421.5623
SEQUENCE:3
DTSTAMP:20260424T054121Z
URL:https://business.capechamber.com/events/details/lunch-learn-tracom-social-styles-5623
END:VEVENT

END:VCALENDAR
