BEGIN:VCALENDAR
VERSION:2.0
PRODID:-//ChamberMaster//Event Calendar 2.0//EN
METHOD:PUBLISH
X-PUBLISHED-TTL:P3D
REFRESH-INTERVAL:P3D
CALSCALE:GREGORIAN
BEGIN:VEVENT
DTSTART:20180424T203000Z
DTEND:20180424T210000Z
X-MICROSOFT-CDO-ALLDAYEVENT:FALSE
SUMMARY:Lutheran Family and Children's Services Ribbon Cutting
DESCRIPTION:Join us in celebrating Lutheran Family and Children's Services' 150 year anniversary! Refreshments and tours will be available following the ribbon cutting.
X-ALT-DESC;FMTTYPE=text/html:Join us in celebrating Lutheran Family and Children&#39\;s Services&#39\; 150 year anniversary! Refreshments and tours will be available following the ribbon cutting.&nbsp\;
LOCATION:3178 Blattner Drive Cape Girardeau\, MO
UID:e.1421.4335
SEQUENCE:3
DTSTAMP:20260423T235815Z
URL:https://business.capechamber.com/events/details/lutheran-family-and-children-s-services-ribbon-cutting-4335
END:VEVENT

END:VCALENDAR
