BEGIN:VCALENDAR
VERSION:2.0
PRODID:-//ChamberMaster//Event Calendar 2.0//EN
METHOD:PUBLISH
X-PUBLISHED-TTL:P3D
REFRESH-INTERVAL:P3D
CALSCALE:GREGORIAN
BEGIN:VEVENT
DTSTART:20170727T200000Z
DTEND:20170727T203000Z
X-MICROSOFT-CDO-ALLDAYEVENT:FALSE
SUMMARY:Massage Central Ribbon Cutting
DESCRIPTION:Join us as we help Massage Central celebrate new business.
X-ALT-DESC;FMTTYPE=text/html:Join us as we help Massage Central celebrate new business.
LOCATION:819 N. Kingshighway St Cape Girardeau\, MO 63701
UID:e.1421.1768
SEQUENCE:3
DTSTAMP:20260423T100821Z
URL:https://business.capechamber.com/events/details/massage-central-ribbon-cutting-1768
END:VEVENT

END:VCALENDAR
