BEGIN:VCALENDAR
VERSION:2.0
PRODID:-//ChamberMaster//Event Calendar 2.0//EN
METHOD:PUBLISH
X-PUBLISHED-TTL:P3D
REFRESH-INTERVAL:P3D
CALSCALE:GREGORIAN
BEGIN:VEVENT
DTSTART:20200220T173000Z
DTEND:20200220T180000Z
X-MICROSOFT-CDO-ALLDAYEVENT:FALSE
SUMMARY:Mid-States Car Wash Solutions Ribbon Cutting
DESCRIPTION:Join us as we help Mid-States Car Wash Solutions celebrate the grand opening of their new location!
X-ALT-DESC;FMTTYPE=text/html:Join us as we help <a href="http://www.capechamber.com/members/mid-states-car-wash-solutions-llc"><span style="color:#008000\;">Mid-States Car Wash Solutions</span></a> celebrate the grand opening of their new location!
LOCATION:2380 E Outer Road Scott City\, MO 63780
UID:e.1421.6722
SEQUENCE:3
DTSTAMP:20260423T101607Z
URL:https://business.capechamber.com/events/details/mid-states-car-wash-solutions-ribbon-cutting-6722
END:VEVENT

END:VCALENDAR
