BEGIN:VCALENDAR
VERSION:2.0
PRODID:-//ChamberMaster//Event Calendar 2.0//EN
METHOD:PUBLISH
X-PUBLISHED-TTL:P3D
REFRESH-INTERVAL:P3D
CALSCALE:GREGORIAN
BEGIN:VEVENT
DTSTART:20191024T180000Z
DTEND:20191024T183000Z
X-MICROSOFT-CDO-ALLDAYEVENT:FALSE
SUMMARY:Minuteman Press Ribbon Cutting
DESCRIPTION:Join us as we help Minuteman Press celebrate their grand opening with a ribbon cutting!
X-ALT-DESC;FMTTYPE=text/html:Join us as we help Minuteman Press celebrate their grand opening with a ribbon cutting!
LOCATION:2941 E Jackson Blvd Jackson\, MO
UID:e.1421.6484
SEQUENCE:3
DTSTAMP:20260423T162955Z
URL:https://business.capechamber.com/events/details/minuteman-press-ribbon-cutting-6484
END:VEVENT

END:VCALENDAR
