BEGIN:VCALENDAR
VERSION:2.0
PRODID:-//ChamberMaster//Event Calendar 2.0//EN
METHOD:PUBLISH
X-PUBLISHED-TTL:P3D
REFRESH-INTERVAL:P3D
CALSCALE:GREGORIAN
BEGIN:VEVENT
DTSTART:20171115T220000Z
DTEND:20171115T223000Z
X-MICROSOFT-CDO-ALLDAYEVENT:FALSE
SUMMARY:Missouri Vein Care Ribbon Cutting
DESCRIPTION:Join us as we celebrate the grand opening of Missouri Vein Care's Cape Girardeau location!
X-ALT-DESC;FMTTYPE=text/html:Join us as we celebrate the grand opening of Missouri Vein Care&#39\;s Cape Girardeau&nbsp\;location!
LOCATION:2917 Independence St Cape Girardeau\, MO
UID:e.1421.1823
SEQUENCE:3
DTSTAMP:20260423T155236Z
URL:https://business.capechamber.com/events/details/missouri-vein-care-ribbon-cutting-1823
END:VEVENT

END:VCALENDAR
