BEGIN:VCALENDAR
VERSION:2.0
PRODID:-//ChamberMaster//Event Calendar 2.0//EN
METHOD:PUBLISH
X-PUBLISHED-TTL:P3D
REFRESH-INTERVAL:P3D
CALSCALE:GREGORIAN
BEGIN:VEVENT
DTSTART:20180724T163000Z
DTEND:20180724T170000Z
X-MICROSOFT-CDO-ALLDAYEVENT:FALSE
SUMMARY:Mowear USA Ribbon Cutting
DESCRIPTION:Join us as we celebrate Mowear USA's expansion to Jackson!
X-ALT-DESC;FMTTYPE=text/html:Join us as we celebrate Mowear USA&#39\;s expansion to Jackson!
LOCATION:507 E. Jackson Blvd Jackson\, MO
UID:e.1421.5612
SEQUENCE:3
DTSTAMP:20260424T042842Z
URL:https://business.capechamber.com/events/details/mowear-usa-ribbon-cutting-5612
END:VEVENT

END:VCALENDAR
