BEGIN:VCALENDAR
VERSION:2.0
PRODID:-//ChamberMaster//Event Calendar 2.0//EN
METHOD:PUBLISH
X-PUBLISHED-TTL:P3D
REFRESH-INTERVAL:P3D
CALSCALE:GREGORIAN
BEGIN:VEVENT
DTSTART:20181101T150000Z
DTEND:20181101T153000Z
X-MICROSOFT-CDO-ALLDAYEVENT:FALSE
SUMMARY:MRV Banks - Cape Girardeau Ribbon Cutting
DESCRIPTION:Join us in helping MRV Banks celebrate the grand opening of their new location!
X-ALT-DESC;FMTTYPE=text/html:Join us in helping MRV Banks celebrate the grand opening of their new location!
LOCATION:1505 North Mount Auburn Road Cape Girardeau
UID:e.1421.5669
SEQUENCE:3
DTSTAMP:20260424T091546Z
URL:https://business.capechamber.com/events/details/mrv-banks-cape-girardeau-ribbon-cutting-5669
END:VEVENT

END:VCALENDAR
