BEGIN:VCALENDAR
VERSION:2.0
PRODID:-//ChamberMaster//Event Calendar 2.0//EN
METHOD:PUBLISH
X-PUBLISHED-TTL:P3D
REFRESH-INTERVAL:P3D
CALSCALE:GREGORIAN
BEGIN:VEVENT
DTSTART:20180330T150000Z
DTEND:20180330T153000Z
X-MICROSOFT-CDO-ALLDAYEVENT:FALSE
SUMMARY:MRV Banks Ground Breaking
DESCRIPTION:Join us in celebrating the future location of MRV Banks at the corner of Mount Auburn Road and North Kingshighway with a groundbreaking!
X-ALT-DESC;FMTTYPE=text/html:Join us in celebrating the future location of MRV Banks at the corner of Mount Auburn Road and North Kingshighway with a groundbreaking!
LOCATION:1505 Mount Auburn Road Cape Girardeau\, MO
UID:e.1421.4326
SEQUENCE:3
DTSTAMP:20260423T222218Z
URL:https://business.capechamber.com/events/details/mrv-banks-ground-breaking-4326
END:VEVENT

END:VCALENDAR
