BEGIN:VCALENDAR
VERSION:2.0
PRODID:-//ChamberMaster//Event Calendar 2.0//EN
METHOD:PUBLISH
X-PUBLISHED-TTL:P3D
REFRESH-INTERVAL:P3D
CALSCALE:GREGORIAN
BEGIN:VEVENT
DTSTART:20200106T220000Z
DTEND:20200106T223000Z
X-MICROSOFT-CDO-ALLDAYEVENT:FALSE
SUMMARY:Nunnery Travels & Associates Dream Vacations Ribbon Cutting
DESCRIPTION:Join us as we help Nunnery Travels & Associates Dream Vacations celebrate their new office! Located on the fourth floor of the Marquette Tower\, space is limited\, so plan to meet us in the Fore Conference Room on that floor with tours of the office space.
X-ALT-DESC;FMTTYPE=text/html:Join us as we help <a href="https://www.capechamber.com/members/nunnery-travels-dream-vacations" target="_blank"><span style="color:#008000\;">Nunnery Travels &amp\; Associates Dream Vacations</span></a> celebrate their new office! Located on the fourth floor of the Marquette Tower\, space is limited\, so plan to meet us in the Fore Conference Room on that floor with tours of the office space.&nbsp\;
LOCATION:338 Broadway\, Suite 431 Cape Girardeau\, MO
UID:e.1421.6514
SEQUENCE:3
DTSTAMP:20260423T112955Z
URL:https://business.capechamber.com/events/details/nunnery-travels-associates-dream-vacations-ribbon-cutting-6514
END:VEVENT

END:VCALENDAR
