BEGIN:VCALENDAR
VERSION:2.0
PRODID:-//ChamberMaster//Event Calendar 2.0//EN
METHOD:PUBLISH
X-PUBLISHED-TTL:P3D
REFRESH-INTERVAL:P3D
CALSCALE:GREGORIAN
BEGIN:VEVENT
DTSTART;VALUE=DATE:20191225
DTEND;VALUE=DATE:20191226
TRANSP:TRANSPARENT
X-MICROSOFT-CDO-ALLDAYEVENT:TRUE
SUMMARY:Office Closed
DESCRIPTION:Wishing you a safe and Merry Christmas!\n\n\n\nCape Chamber\, VisitCape\, and Magnet Offices will resume normal business hours Thursday\, December 26\, 2019.
X-ALT-DESC;FMTTYPE=text/html:<span style="color:#008000\;">Wishing you a safe and Merry Christmas!</span><br />\n<br />\nCape Chamber\, VisitCape\, and Magnet Offices will resume normal business hours Thursday\, December 26\, 2019.&nbsp\;
LOCATION:220 N Fountain St Cape Girardeau\, MO
UID:e.1421.6511
SEQUENCE:3
DTSTAMP:20260423T124433Z
URL:https://business.capechamber.com/events/details/office-closed-6511
END:VEVENT

END:VCALENDAR
