BEGIN:VCALENDAR
VERSION:2.0
PRODID:-//ChamberMaster//Event Calendar 2.0//EN
METHOD:PUBLISH
X-PUBLISHED-TTL:P3D
REFRESH-INTERVAL:P3D
CALSCALE:GREGORIAN
BEGIN:VEVENT
DTSTART:20180828T190000Z
DTEND:20180828T193000Z
X-MICROSOFT-CDO-ALLDAYEVENT:FALSE
SUMMARY:One City Ribbon Cutting
DESCRIPTION:Join us as we celebrate the grand opening of One City!
X-ALT-DESC;FMTTYPE=text/html:Join us as we celebrate the grand opening of One City!
LOCATION:610 Independence St. Cape Girardeau\, MO
UID:e.1421.5631
SEQUENCE:3
DTSTAMP:20260424T053927Z
URL:https://business.capechamber.com/events/details/one-city-ribbon-cutting-5631
END:VEVENT

END:VCALENDAR
