BEGIN:VCALENDAR
VERSION:2.0
PRODID:-//ChamberMaster//Event Calendar 2.0//EN
METHOD:PUBLISH
X-PUBLISHED-TTL:P3D
REFRESH-INTERVAL:P3D
CALSCALE:GREGORIAN
BEGIN:VEVENT
DTSTART:20170928T173000Z
DTEND:20170928T180000Z
X-MICROSOFT-CDO-ALLDAYEVENT:FALSE
SUMMARY:PC Wellness Centers Ribbon Cutting
DESCRIPTION:Join us as we celebrate PC Wellness Centers' 10th anniversary.
X-ALT-DESC;FMTTYPE=text/html:Join us as we celebrate PC Wellness Centers&#39\; 10th&nbsp\;anniversary.&nbsp\; &nbsp\;
LOCATION:5 Doctor's Park Cape Girardeau\, MO 63703
UID:e.1421.1764
SEQUENCE:3
DTSTAMP:20260423T124538Z
URL:https://business.capechamber.com/events/details/pc-wellness-centers-ribbon-cutting-1764
END:VEVENT

END:VCALENDAR
