BEGIN:VCALENDAR
VERSION:2.0
PRODID:-//ChamberMaster//Event Calendar 2.0//EN
METHOD:PUBLISH
X-PUBLISHED-TTL:P3D
REFRESH-INTERVAL:P3D
CALSCALE:GREGORIAN
BEGIN:VEVENT
DTSTART:20180830T163000Z
DTEND:20180830T170000Z
X-MICROSOFT-CDO-ALLDAYEVENT:FALSE
SUMMARY:PRS1 - City Of Cape Ribbon Cutting
DESCRIPTION:Join us as we celebrate Arena Park improvements with the City of Cape Girardeau! Enjoy playgrounds\, restrooms\, pavilions\, and free hot dogs from 11:30 a.m. - 1:00 p.m.
X-ALT-DESC;FMTTYPE=text/html:Join us as we celebrate Arena Park improvements with the City of Cape Girardeau! Enjoy playgrounds\, restrooms\, pavilions\, and free hot dogs from 11:30 a.m. - 1:00 p.m.
LOCATION:410 Kiwanis Dr. Cape Girardeau\, MO 63701 Arena Park Shelter #1
UID:e.1421.5645
SEQUENCE:3
DTSTAMP:20260424T054034Z
URL:https://business.capechamber.com/events/details/prs1-city-of-cape-ribbon-cutting-5645
END:VEVENT

END:VCALENDAR
