BEGIN:VCALENDAR
VERSION:2.0
PRODID:-//ChamberMaster//Event Calendar 2.0//EN
METHOD:PUBLISH
X-PUBLISHED-TTL:P3D
REFRESH-INTERVAL:P3D
CALSCALE:GREGORIAN
BEGIN:VEVENT
DTSTART:20181029T190000Z
DTEND:20181029T193000Z
X-MICROSOFT-CDO-ALLDAYEVENT:FALSE
SUMMARY:R & R Estates Investment\, LLC Ribbon Cutting
DESCRIPTION:Join us as we celebrate R & R Estates Investment\, LLC's newest property\, The School House. An open house will immediately follow the ribbon cutting.
X-ALT-DESC;FMTTYPE=text/html:Join us as we celebrate R &amp\; R Estates Investment\, LLC&#39\;s newest property\, The School House. An open house will immediately follow the ribbon cutting.&nbsp\;
LOCATION:418 Independence Cape Girardeau\, MO
UID:e.1421.5679
SEQUENCE:3
DTSTAMP:20260424T090754Z
URL:https://business.capechamber.com/events/details/r-r-estates-investment-llc-ribbon-cutting-5679
END:VEVENT

END:VCALENDAR
