BEGIN:VCALENDAR
VERSION:2.0
PRODID:-//ChamberMaster//Event Calendar 2.0//EN
METHOD:PUBLISH
X-PUBLISHED-TTL:P3D
REFRESH-INTERVAL:P3D
CALSCALE:GREGORIAN
BEGIN:VEVENT
DTSTART:20180426T210000Z
DTEND:20180426T213000Z
X-MICROSOFT-CDO-ALLDAYEVENT:FALSE
SUMMARY:Realty One Associates Ribbon Cutting
DESCRIPTION:Join us as we celebrate the grand opening of Realty One Associates' Cape Girardeau location!
X-ALT-DESC;FMTTYPE=text/html:Join us as we celebrate the grand opening of Realty One Associates&#39\; Cape Girardeau location!
LOCATION:3095 Lexington Avenue Ste 400 Cape Girardeau\, MO
UID:e.1421.3855
SEQUENCE:3
DTSTAMP:20260423T235547Z
URL:https://business.capechamber.com/events/details/realty-one-associates-ribbon-cutting-3855
END:VEVENT

END:VCALENDAR
