BEGIN:VCALENDAR
VERSION:2.0
PRODID:-//ChamberMaster//Event Calendar 2.0//EN
METHOD:PUBLISH
X-PUBLISHED-TTL:P3D
REFRESH-INTERVAL:P3D
CALSCALE:GREGORIAN
BEGIN:VEVENT
DTSTART:20170721T160000Z
DTEND:20170722T043000Z
X-MICROSOFT-CDO-ALLDAYEVENT:FALSE
SUMMARY:Rendleman Orchards Farm Market Ribbon Cutting
DESCRIPTION:Join us as we celebrate Rendleman Orchards Farm Market's new location. Samples of peaches and Peach Cider Spritzer will be available.
X-ALT-DESC;FMTTYPE=text/html:Join us as we celebrate Rendleman Orchards Farm Market&#39\;s new location. Samples of peaches and Peach Cider Spritzer&nbsp\;will be available.
LOCATION:1705 N. Kingshighway ST Cape Girardeau\, MO 63701 *Next to ACE Hardware
UID:e.1421.1763
SEQUENCE:3
DTSTAMP:20260423T101743Z
URL:https://business.capechamber.com/events/details/rendleman-orchards-farm-market-ribbon-cutting-1763
END:VEVENT

END:VCALENDAR
