BEGIN:VCALENDAR
VERSION:2.0
PRODID:-//ChamberMaster//Event Calendar 2.0//EN
METHOD:PUBLISH
X-PUBLISHED-TTL:P3D
REFRESH-INTERVAL:P3D
CALSCALE:GREGORIAN
BEGIN:VEVENT
DTSTART:20181115T170000Z
DTEND:20181115T173000Z
X-MICROSOFT-CDO-ALLDAYEVENT:FALSE
SUMMARY:Restart Recovery Ribbon Cutting
DESCRIPTION:Join us to help celebrate the grand opening of Restart Recovery\, an outpatient Opioid Addiction Treatment Center.
X-ALT-DESC;FMTTYPE=text/html:Join us to help celebrate the grand opening of Restart Recovery\, an outpatient Opioid Addiction Treatment Center.
LOCATION:21 Doctors' Park\, Suite A Cape Girardeau\, MO
UID:e.1421.5698
SEQUENCE:3
DTSTAMP:20260424T090626Z
URL:https://business.capechamber.com/events/details/restart-recovery-ribbon-cutting-5698
END:VEVENT

END:VCALENDAR
