BEGIN:VCALENDAR
VERSION:2.0
PRODID:-//ChamberMaster//Event Calendar 2.0//EN
METHOD:PUBLISH
X-PUBLISHED-TTL:P3D
REFRESH-INTERVAL:P3D
CALSCALE:GREGORIAN
BEGIN:VEVENT
DTSTART:20190123T163000Z
DTEND:20190123T170000Z
X-MICROSOFT-CDO-ALLDAYEVENT:FALSE
SUMMARY:RJ Home Sense Ribbon Cutting
DESCRIPTION:Join us as we help RJ Home Sense celebrate their grand opening.
X-ALT-DESC;FMTTYPE=text/html:Join us as we help RJ Home Sense celebrate their grand opening.&nbsp\;
LOCATION:59 S Plaza Way Cape Girardeau\, MO
UID:e.1421.5877
SEQUENCE:3
DTSTAMP:20260424T060147Z
URL:https://business.capechamber.com/events/details/rj-home-sense-ribbon-cutting-5877
END:VEVENT

END:VCALENDAR
