BEGIN:VCALENDAR
VERSION:2.0
PRODID:-//ChamberMaster//Event Calendar 2.0//EN
METHOD:PUBLISH
X-PUBLISHED-TTL:P3D
REFRESH-INTERVAL:P3D
CALSCALE:GREGORIAN
BEGIN:VEVENT
DTSTART:20180918T213000Z
DTEND:20180918T220000Z
X-MICROSOFT-CDO-ALLDAYEVENT:FALSE
SUMMARY:Rusted Route Farms Ribbon Cutting
DESCRIPTION:Join us as we celebrate Rusted Route Farms' new Bridal Suite!
X-ALT-DESC;FMTTYPE=text/html:Join us as we celebrate Rusted Route Farms&#39\; new Bridal Suite!
LOCATION:5739 State Hwy W Jackson\, MO 63755
UID:e.1421.5624
SEQUENCE:3
DTSTAMP:20260424T071826Z
URL:https://business.capechamber.com/events/details/rusted-route-farms-ribbon-cutting-5624
END:VEVENT

END:VCALENDAR
