BEGIN:VCALENDAR
VERSION:2.0
PRODID:-//ChamberMaster//Event Calendar 2.0//EN
METHOD:PUBLISH
X-PUBLISHED-TTL:P3D
REFRESH-INTERVAL:P3D
CALSCALE:GREGORIAN
BEGIN:VEVENT
DTSTART:20180406T190000Z
DTEND:20180406T193000Z
X-MICROSOFT-CDO-ALLDAYEVENT:FALSE
SUMMARY:Safe House for Women Ground Breaking
DESCRIPTION:Join us in celebrating the Safe House for Women's new shelter with a ceremonial ground breaking!
X-ALT-DESC;FMTTYPE=text/html:Join us in celebrating the Safe House for Women&#39\;s new shelter with a ceremonial ground breaking!
LOCATION:Cape Girardeau County Park - North
UID:e.1421.4262
SEQUENCE:3
DTSTAMP:20260423T235553Z
URL:https://business.capechamber.com/events/details/safe-house-for-women-ground-breaking-4262
END:VEVENT

END:VCALENDAR
