BEGIN:VCALENDAR
VERSION:2.0
PRODID:-//ChamberMaster//Event Calendar 2.0//EN
METHOD:PUBLISH
X-PUBLISHED-TTL:P3D
REFRESH-INTERVAL:P3D
CALSCALE:GREGORIAN
BEGIN:VEVENT
DTSTART:20250922T170000Z
DTEND:20250922T173000Z
X-MICROSOFT-CDO-ALLDAYEVENT:FALSE
SUMMARY:Saint Francis Healthcare System Ribbon Cutting
DESCRIPTION:Join us as we celebrate the new Cape Gynecologic Oncology practice at Saint Francis Healthcare System! Please stay for refreshments.
X-ALT-DESC;FMTTYPE=text/html:Join us as we celebrate the new Cape Gynecologic Oncology practice at <a href="https://business.capechamber.com/list/member/saint-francis-healthcare-system-2908"><span style="color:#00cc33\;">Saint Francis Healthcare System!</span></a>&nbsp\;Please stay for refreshments.
LOCATION:211 Saint Francis Drive Cape Girardeau\, MO 63703 Cancer Institute - Entrance 6\, Third floor
UID:e.1421.12207
SEQUENCE:3
DTSTAMP:20260425T011421Z
URL:https://business.capechamber.com/events/details/saint-francis-healthcare-system-ribbon-cutting-12207
END:VEVENT

END:VCALENDAR
