BEGIN:VCALENDAR
VERSION:2.0
PRODID:-//ChamberMaster//Event Calendar 2.0//EN
METHOD:PUBLISH
X-PUBLISHED-TTL:P3D
REFRESH-INTERVAL:P3D
CALSCALE:GREGORIAN
BEGIN:VEVENT
DTSTART:20181023T130000Z
DTEND:20181023T220000Z
X-MICROSOFT-CDO-ALLDAYEVENT:FALSE
SUMMARY:Sales Training
DESCRIPTION:When customers have completed 70% of the buying process without engaging with a single person\, and can complete many purchases online without EVER interacting with a sales person\, traditional and transactional sales tactics simply no longer work. Dale Carnegie Sales Training is uniquely positioned to prepare sales professionals to make the transition into the new world where collaboration\, confidence\, and credibility are the common themes for connecting with customers to increase business. \n\n\n\nMeets 3 consecutive days\n\n8:00 AM - 5:00 PM\n\nOctober 23-25\, 2018\n\n\n\nInvestment: $1\,695\n\n\n\nRegister at HendricksonBusinessAdvisors.com
X-ALT-DESC;FMTTYPE=text/html:When customers have completed 70% of the buying process without engaging with a single person\, and can complete many purchases online without EVER interacting with a sales person\, traditional and transactional sales tactics simply no longer work. Dale Carnegie Sales Training is uniquely positioned to prepare sales professionals to make the transition into the new world where collaboration\, confidence\, and credibility are the common themes for connecting with customers to increase business.&nbsp\;<br />\n<br />\n<u><strong>Meets 3 consecutive days</strong></u><br />\n8:00 AM - 5:00 PM<br />\nOctober 23-25\, 2018<br />\n<br />\n<strong>Investment: $1\,695<br />\n<br />\nRegister at HendricksonBusinessAdvisors.com</strong>
LOCATION:
UID:e.1421.1810
SEQUENCE:3
DTSTAMP:20260424T084634Z
URL:https://business.capechamber.com/events/details/sales-training-1810
END:VEVENT

END:VCALENDAR
