BEGIN:VCALENDAR
VERSION:2.0
PRODID:-//ChamberMaster//Event Calendar 2.0//EN
METHOD:PUBLISH
X-PUBLISHED-TTL:P3D
REFRESH-INTERVAL:P3D
CALSCALE:GREGORIAN
BEGIN:VEVENT
DTSTART:20171023T130000Z
DTEND:20171024T013000Z
X-MICROSOFT-CDO-ALLDAYEVENT:FALSE
SUMMARY:Sands Pancake House Ribbon Cutting
DESCRIPTION:Join us as we celebrate the relocation of Sand's Pancake House!
X-ALT-DESC;FMTTYPE=text/html:Join us as we celebrate the relocation of Sand&#39\;s Pancake House!
LOCATION:602 Morgan Oak St Cape Girardeau\, MO
UID:e.1421.1812
SEQUENCE:3
DTSTAMP:20260423T142001Z
URL:https://business.capechamber.com/events/details/sands-pancake-house-ribbon-cutting-1812
END:VEVENT

END:VCALENDAR
