BEGIN:VCALENDAR
VERSION:2.0
PRODID:-//ChamberMaster//Event Calendar 2.0//EN
METHOD:PUBLISH
X-PUBLISHED-TTL:P3D
REFRESH-INTERVAL:P3D
CALSCALE:GREGORIAN
BEGIN:VEVENT
DTSTART:20181108T220000Z
DTEND:20181108T223000Z
X-MICROSOFT-CDO-ALLDAYEVENT:FALSE
SUMMARY:Seis Amigos Ribbon Cutting
DESCRIPTION:Join us as we celebrate the new management team at Seis Amigos.
X-ALT-DESC;FMTTYPE=text/html:Join us as we celebrate the new management team at Seis Amigos.&nbsp\;
LOCATION:1832 N Kingshighway Cape Girardeau\, MO
UID:e.1421.5670
SEQUENCE:3
DTSTAMP:20260424T090642Z
URL:https://business.capechamber.com/events/details/seis-amigos-ribbon-cutting-5670
END:VEVENT

END:VCALENDAR
