BEGIN:VCALENDAR
VERSION:2.0
PRODID:-//ChamberMaster//Event Calendar 2.0//EN
METHOD:PUBLISH
X-PUBLISHED-TTL:P3D
REFRESH-INTERVAL:P3D
CALSCALE:GREGORIAN
BEGIN:VEVENT
DTSTART:20180213T200000Z
DTEND:20180213T203000Z
X-MICROSOFT-CDO-ALLDAYEVENT:FALSE
SUMMARY:SEMO CPA Company Ribbon Cutting
DESCRIPTION:Join us as we celebrate the grand opening of SEMO CPA Company!
X-ALT-DESC;FMTTYPE=text/html:Join us as we celebrate the grand opening of SEMO CPA Company!
LOCATION:112 Themis St. Cape Girardeau\, MO
UID:e.1421.3878
SEQUENCE:3
DTSTAMP:20260423T210310Z
URL:https://business.capechamber.com/events/details/semo-cpa-company-ribbon-cutting-3878
END:VEVENT

END:VCALENDAR
