BEGIN:VCALENDAR
VERSION:2.0
PRODID:-//ChamberMaster//Event Calendar 2.0//EN
METHOD:PUBLISH
X-PUBLISHED-TTL:P3D
REFRESH-INTERVAL:P3D
CALSCALE:GREGORIAN
BEGIN:VEVENT
DTSTART:20180103T170000Z
DTEND:20180103T173000Z
X-MICROSOFT-CDO-ALLDAYEVENT:FALSE
SUMMARY:SEMO Media Ribbon Cutting
DESCRIPTION:Join us as we celebrate SEMO Media's first anniversary!
X-ALT-DESC;FMTTYPE=text/html:Join us as we celebrate SEMO Media&#39\;s first anniversary!
LOCATION:339 Broadway St. Suite 214 Cape Girardeau\, MO
UID:e.1421.2044
SEQUENCE:3
DTSTAMP:20260423T210013Z
URL:https://business.capechamber.com/events/details/semo-media-ribbon-cutting-2044
END:VEVENT

END:VCALENDAR
