BEGIN:VCALENDAR
VERSION:2.0
PRODID:-//ChamberMaster//Event Calendar 2.0//EN
METHOD:PUBLISH
X-PUBLISHED-TTL:P3D
REFRESH-INTERVAL:P3D
CALSCALE:GREGORIAN
BEGIN:VEVENT
DTSTART:20180228T173000Z
DTEND:20180228T180000Z
X-MICROSOFT-CDO-ALLDAYEVENT:FALSE
SUMMARY:Serenity Point FFC Behavioral Health Ribbon Cutting
DESCRIPTION:Join us as we celebrate Serenity Point FFC Behavioral Health's new transitional building! An open house will follow the ribbon cutting until 2:00 p.m.
X-ALT-DESC;FMTTYPE=text/html:Join us as we celebrate Serenity Point FFC Behavioral Health&#39\;s new transitional building! An open house will follow the ribbon cutting until 2:00 p.m.
LOCATION:106 S. Frederick Cape Girardeau\, MO
UID:e.1421.3911
SEQUENCE:3
DTSTAMP:20260423T210200Z
URL:https://business.capechamber.com/events/details/serenity-point-ffc-behavioral-health-ribbon-cutting-3911
END:VEVENT

END:VCALENDAR
