BEGIN:VCALENDAR
VERSION:2.0
PRODID:-//ChamberMaster//Event Calendar 2.0//EN
METHOD:PUBLISH
X-PUBLISHED-TTL:P3D
REFRESH-INTERVAL:P3D
CALSCALE:GREGORIAN
BEGIN:VEVENT
DTSTART:20180629T150000Z
DTEND:20180630T033000Z
X-MICROSOFT-CDO-ALLDAYEVENT:FALSE
SUMMARY:Slumberland Furniture ribbon cutting
DESCRIPTION:Join us as we celebrate Slumberland Furniture's new location!
X-ALT-DESC;FMTTYPE=text/html:Join us as we celebrate Slumberland Furniture&#39\;s new location!
LOCATION:2106 William St. Ste 200 Cape Girardeau\, MO
UID:e.1421.5549
SEQUENCE:3
DTSTAMP:20260424T025233Z
URL:https://business.capechamber.com/events/details/slumberland-furniture-ribbon-cutting-5549
END:VEVENT

END:VCALENDAR
