BEGIN:VCALENDAR
VERSION:2.0
PRODID:-//ChamberMaster//Event Calendar 2.0//EN
METHOD:PUBLISH
X-PUBLISHED-TTL:P3D
REFRESH-INTERVAL:P3D
CALSCALE:GREGORIAN
BEGIN:VEVENT
DTSTART:20181016T170000Z
DTEND:20181016T173000Z
X-MICROSOFT-CDO-ALLDAYEVENT:FALSE
SUMMARY:Sound Advice Hearing Doctors Ribbon Cutting
DESCRIPTION:Join us as we celebrate Sound Advice Hearing Doctors' grand opening!
X-ALT-DESC;FMTTYPE=text/html:Join us as we celebrate Sound Advice Hearing Doctors&#39\; grand opening!
LOCATION:201 S. Mt. Auburn Suite D Cape Girardeau\, MO
UID:e.1421.5656
SEQUENCE:3
DTSTAMP:20260424T090625Z
URL:https://business.capechamber.com/events/details/sound-advice-hearing-doctors-ribbon-cutting-5656
END:VEVENT

END:VCALENDAR
