BEGIN:VCALENDAR
VERSION:2.0
PRODID:-//ChamberMaster//Event Calendar 2.0//EN
METHOD:PUBLISH
X-PUBLISHED-TTL:P3D
REFRESH-INTERVAL:P3D
CALSCALE:GREGORIAN
BEGIN:VEVENT
DTSTART:20180504T190000Z
DTEND:20180504T193000Z
X-MICROSOFT-CDO-ALLDAYEVENT:FALSE
SUMMARY:Southeast Missouri Board of Realtors Ribbon Cutting
DESCRIPTION:Join us in celebrating a new office location for Southeast Missouri Board of Realtors in addition to their 65th anniversary as an association! There will be an open house to follow from 2:00 - 4:00 pm with beverages and appetizers.
X-ALT-DESC;FMTTYPE=text/html:Join us in celebrating a new office location for Southeast Missouri Board of Realtors in addition to their 65th anniversary as an association! There will be an open house to follow from 2:00 - 4:00 pm with beverages and appetizers.&nbsp\;
LOCATION:78 S. Plaza Way Cape Girardeau\, MO
UID:e.1421.4339
SEQUENCE:3
DTSTAMP:20260424T013246Z
URL:https://business.capechamber.com/events/details/southeast-missouri-board-of-realtors-ribbon-cutting-4339
END:VEVENT

END:VCALENDAR
