BEGIN:VCALENDAR
VERSION:2.0
PRODID:-//ChamberMaster//Event Calendar 2.0//EN
METHOD:PUBLISH
X-PUBLISHED-TTL:P3D
REFRESH-INTERVAL:P3D
CALSCALE:GREGORIAN
BEGIN:VEVENT
DTSTART;VALUE=DATE:20170912
DTEND;VALUE=DATE:20170913
TRANSP:TRANSPARENT
X-MICROSOFT-CDO-ALLDAYEVENT:TRUE
SUMMARY:Southeast Missouri Opiod Summit
DESCRIPTION:Cape Girardeau has been chosen as one of nine cities / counties in Missouri to host an Opioid Summit.  These Summits are being led by the Missouri Department of Health and Senior Services and will  bring together  state experts and local voices in healthcare\, safety\, education and workforce development to raise awareness across the sectors of what opioid abuse looks like in our region and interventions that would be best. \n\n\n\nAgenda and registration form will be available at a later date.
X-ALT-DESC;FMTTYPE=text/html:<span style="font-size:14px\;"><span style="font-family:arial\;"><span style="color: rgb(0\, 0\, 0)\;">Cape Girardeau has been chosen as one of nine </span></span></span><span style="color: rgb(0\, 0\, 0)\; font-family: Tahoma\, sans-serif\; font-size: 16px\;"><span style="font-size:14px\;"><span style="font-family:arial\;">cities / counties</span></span><span style="font-size:14px\;"><span style="font-family:arial\;"> in Missouri to host an Opioid Summit.&nbsp\; These Summits are being led by the Missouri Department of Health and Senior Services and </span></span><span style="font-size:14px\;"><span style="font-family:arial\;">will&nbsp\; bring</span></span><span style="font-size:14px\;"><span style="font-family:arial\;"> </span></span><span style="font-size:14px\;"><span style="font-family:arial\;">together&nbsp\; state</span></span></span><span style="font-size:14px\;"><span style="font-family:arial\;"><span style="color: rgb(0\, 0\, 0)\;"> experts and local voices in healthcare\, safety\, education and workforce development to raise awareness across the sectors of what opioid abuse looks like in our region and interventions that would be best.&nbsp\;<br />\n<br />\nAgenda and registration form will be available at a later date.</span></span></span>
LOCATION:Show Me Center 1333 N. Sprigg St. Cape Girardeau\, MO
UID:e.1421.1777
SEQUENCE:3
DTSTAMP:20260423T124722Z
URL:https://business.capechamber.com/events/details/southeast-missouri-opiod-summit-1777
END:VEVENT

END:VCALENDAR
