BEGIN:VCALENDAR
VERSION:2.0
PRODID:-//ChamberMaster//Event Calendar 2.0//EN
METHOD:PUBLISH
X-PUBLISHED-TTL:P3D
REFRESH-INTERVAL:P3D
CALSCALE:GREGORIAN
BEGIN:VEVENT
DTSTART:20190327T200000Z
DTEND:20190327T203000Z
X-MICROSOFT-CDO-ALLDAYEVENT:FALSE
SUMMARY:SoutheastHEALTH College of Nursing & Health Sciences Ribbon Cutting
DESCRIPTION:Join us in celebrating the recent expansion and renovation of SoutheastHEALTH's College of Nursing & Health Sciences educational facilities. An open house will follow from 3:30 - 6:00 PM.
X-ALT-DESC;FMTTYPE=text/html:Join us in celebrating the recent expansion and renovation of SoutheastHEALTH&#39\;s College of Nursing &amp\; Health Sciences educational facilities. An open house will follow from 3:30 - 6:00 PM.&nbsp\;
LOCATION:2001 William Street Cape Girardeau\, MO
UID:e.1421.6079
SEQUENCE:3
DTSTAMP:20260424T031217Z
URL:https://business.capechamber.com/events/details/southeasthealth-college-of-nursing-health-sciences-ribbon-cutting-6079
END:VEVENT

END:VCALENDAR
