BEGIN:VCALENDAR
VERSION:2.0
PRODID:-//ChamberMaster//Event Calendar 2.0//EN
METHOD:PUBLISH
X-PUBLISHED-TTL:P3D
REFRESH-INTERVAL:P3D
CALSCALE:GREGORIAN
BEGIN:VEVENT
DTSTART:20171013T150000Z
DTEND:20171013T153000Z
X-MICROSOFT-CDO-ALLDAYEVENT:FALSE
SUMMARY:Southern Bank Ribbon Cutting
DESCRIPTION:Join us as we celebrate the Grand Opening of Southern Bank with new ownership!
X-ALT-DESC;FMTTYPE=text/html:Join us as we celebrate the Grand Opening of Southern Bank with new ownership!
LOCATION:380 N. Kingshighway Cape Girardeau\, MO
UID:e.1421.1801
SEQUENCE:3
DTSTAMP:20260423T142014Z
URL:https://business.capechamber.com/events/details/southern-bank-ribbon-cutting-1801
END:VEVENT

END:VCALENDAR
