BEGIN:VCALENDAR
VERSION:2.0
PRODID:-//ChamberMaster//Event Calendar 2.0//EN
METHOD:PUBLISH
X-PUBLISHED-TTL:P3D
REFRESH-INTERVAL:P3D
CALSCALE:GREGORIAN
BEGIN:VEVENT
DTSTART:20180209T170000Z
DTEND:20180210T053000Z
X-MICROSOFT-CDO-ALLDAYEVENT:FALSE
SUMMARY:Southern Loop Ribbon Cutting
DESCRIPTION:Join us as we celebrate the grand opening of Southern Loop!
X-ALT-DESC;FMTTYPE=text/html:Join us as we celebrate the grand opening of Southern Loop!
LOCATION:135 Main St. Cape Girardeau\, MO
UID:e.1421.3860
SEQUENCE:3
DTSTAMP:20260423T205836Z
URL:https://business.capechamber.com/events/details/southern-loop-ribbon-cutting-3860
END:VEVENT

END:VCALENDAR
