BEGIN:VCALENDAR
VERSION:2.0
PRODID:-//ChamberMaster//Event Calendar 2.0//EN
METHOD:PUBLISH
X-PUBLISHED-TTL:P3D
REFRESH-INTERVAL:P3D
CALSCALE:GREGORIAN
BEGIN:VEVENT
DTSTART:20180515T203000Z
DTEND:20180515T203000Z
X-MICROSOFT-CDO-ALLDAYEVENT:FALSE
SUMMARY:Spencer Fane LLP Ribbon Cutting
DESCRIPTION:Join us in helping Spencer Fane LLP celebrate their relocation and expansion.
X-ALT-DESC;FMTTYPE=text/html:Join us in helping Spencer Fane LLP celebrate their relocation and expansion.&nbsp\;
LOCATION:1650 N Kingshighway Cape Girardeau\, MO
UID:e.1421.5345
SEQUENCE:3
DTSTAMP:20260424T013055Z
URL:https://business.capechamber.com/events/details/spencer-fane-llp-ribbon-cutting-5345
END:VEVENT

END:VCALENDAR
