BEGIN:VCALENDAR
VERSION:2.0
PRODID:-//ChamberMaster//Event Calendar 2.0//EN
METHOD:PUBLISH
X-PUBLISHED-TTL:P3D
REFRESH-INTERVAL:P3D
CALSCALE:GREGORIAN
BEGIN:VEVENT
DTSTART:20250903T160000Z
DTEND:20250903T180000Z
X-MICROSOFT-CDO-ALLDAYEVENT:FALSE
SUMMARY:State of the Community Luncheon
DESCRIPTION:Join the Cape Chamber\, Southeast Missouri State University\, and the City of Cape Girardeau for the Second Annual State of the Community Luncheon. This distinguished event will provide valuable insight into the priorities and plans for the coming year\, as shared by the region's key leaders:\n\n \nMike Kehoe\, Governor of Missouri\n\n\n\nStacy Kinder\, Mayor\, City of Cape Girardeau\n\n\n\nClint Tracy\, Presiding Commissioner\, Cape Girardeau County\n\n\n\nDr. Brad Hodson\, President\, Southeast Missouri State University
X-ALT-DESC;FMTTYPE=text/html:<p data-end="397" data-start="101"><span style="font-size:18px\;"><strong data-end="250" data-start="101">Join the Cape Chamber\, Southeast Missouri State University\, and the City of Cape Girardeau for the Second Annual State of the Community Luncheon.&nbsp\;</strong>This distinguished event will provide valuable insight into the priorities and plans for the coming year\, as shared by the region&rsquo\;s key leaders:</span><br />\n&nbsp\;</p>\n<span style="font-size:18px\;"><strong>Mike Kehoe</strong><span style="font-size: 16px\;">\,</span></span>&nbsp\;<span style="font-size: 16px\;">Governor of Missouri</span><br />\n<br />\n<strong style="font-size: 18px\;">Stacy Kinder</strong><span style="font-size: 16px\;">\,</span><span style="font-size: 18px\;">&nbsp\;</span><span style="font-size: 16px\;">Mayor\, City of Cape Girardeau</span><br />\n<br />\n<strong><span style="font-size: 18px\;">Clint Tracy</span></strong>\,&nbsp\;<span style="font-size: 16px\;">Presiding Commissioner\, Cape Girardeau County</span><br />\n<br />\n<span style="font-size:18px\;"><strong>Dr. Brad Hodson</strong></span><span style="font-size:16px\;">\, President\, Southeast Missouri State University</span>
LOCATION:Drury Plaza Hotel Conference Center 3551 Percy Drive Cape Girardeau\, MO 63701
UID:e.1421.11204
SEQUENCE:3
DTSTAMP:20260425T011337Z
URL:https://business.capechamber.com/events/details/state-of-the-community-luncheon-11204
END:VEVENT

END:VCALENDAR
