BEGIN:VCALENDAR
VERSION:2.0
PRODID:-//ChamberMaster//Event Calendar 2.0//EN
METHOD:PUBLISH
X-PUBLISHED-TTL:P3D
REFRESH-INTERVAL:P3D
CALSCALE:GREGORIAN
BEGIN:VEVENT
DTSTART:20180608T190000Z
DTEND:20180608T190000Z
X-MICROSOFT-CDO-ALLDAYEVENT:FALSE
SUMMARY:Storyteller Productions Ribbon Cutting
DESCRIPTION:Storyteller Productions\, formerly known as Sightnsound Media Services\, is celebrating their recent move with a ribbon cutting! We hope you can join us!
X-ALT-DESC;FMTTYPE=text/html:Storyteller Productions\, formerly known as Sightnsound Media Services\, is celebrating their recent move with a ribbon cutting! We hope you can join us!
LOCATION:1021 Kingsway Suite 6 Cape Girardeau\, MO
UID:e.1421.5539
SEQUENCE:3
DTSTAMP:20260424T042327Z
URL:https://business.capechamber.com/events/details/storyteller-productions-ribbon-cutting-5539
END:VEVENT

END:VCALENDAR
