BEGIN:VCALENDAR
VERSION:2.0
PRODID:-//ChamberMaster//Event Calendar 2.0//EN
METHOD:PUBLISH
X-PUBLISHED-TTL:P3D
REFRESH-INTERVAL:P3D
CALSCALE:GREGORIAN
BEGIN:VEVENT
DTSTART:20190314T190000Z
DTEND:20190314T193000Z
X-MICROSOFT-CDO-ALLDAYEVENT:FALSE
SUMMARY:Strickland Engineering Ribbon Cutting
DESCRIPTION:Join us as we help Strickland Engineering celebrate 40 years in business with a ribbon cutting.
X-ALT-DESC;FMTTYPE=text/html:Join us as we help Strickland Engineering celebrate 40 years in business with a ribbon cutting.&nbsp\;
LOCATION:113 W. Main Street\, Suite 1 Jackson\, MO
UID:e.1421.5905
SEQUENCE:3
DTSTAMP:20260424T044027Z
URL:https://business.capechamber.com/events/details/strickland-engineering-ribbon-cutting-5905
END:VEVENT

END:VCALENDAR
