BEGIN:VCALENDAR
VERSION:2.0
PRODID:-//ChamberMaster//Event Calendar 2.0//EN
METHOD:PUBLISH
X-PUBLISHED-TTL:P3D
REFRESH-INTERVAL:P3D
CALSCALE:GREGORIAN
BEGIN:VEVENT
DTSTART:20180919T150000Z
DTEND:20180919T153000Z
X-MICROSOFT-CDO-ALLDAYEVENT:FALSE
SUMMARY:Sugarfire Smoke House Ribbon Cutting
DESCRIPTION:Join us as we celebrate the grand opening of Sugarfire Smoke House!
X-ALT-DESC;FMTTYPE=text/html:Join us as we celebrate the grand opening of Sugarfire Smoke House!
LOCATION:118 Siemers Dr. Cape Girardeau\, MO
UID:e.1421.5660
SEQUENCE:3
DTSTAMP:20260424T071816Z
URL:https://business.capechamber.com/events/details/sugarfire-smoke-house-ribbon-cutting-5660
END:VEVENT

END:VCALENDAR
