BEGIN:VCALENDAR
VERSION:2.0
PRODID:-//ChamberMaster//Event Calendar 2.0//EN
METHOD:PUBLISH
X-PUBLISHED-TTL:P3D
REFRESH-INTERVAL:P3D
CALSCALE:GREGORIAN
BEGIN:VEVENT
DTSTART:20170810T190000Z
DTEND:20170810T193000Z
X-MICROSOFT-CDO-ALLDAYEVENT:FALSE
SUMMARY:Supercuts Ribbon Cutting
DESCRIPTION:Join us as we celebrate one of Cape Girardeau's newest businesses\, Supercuts!
X-ALT-DESC;FMTTYPE=text/html:Join us as we celebrate one of Cape Girardeau&#39\;s newest businesses\, Supercuts!
LOCATION:3441 William Street A Cape Girardeau\, MO
UID:e.1421.1779
SEQUENCE:3
DTSTAMP:20260423T112657Z
URL:https://business.capechamber.com/events/details/supercuts-ribbon-cutting-1779
END:VEVENT

END:VCALENDAR
