BEGIN:VCALENDAR
VERSION:2.0
PRODID:-//ChamberMaster//Event Calendar 2.0//EN
METHOD:PUBLISH
X-PUBLISHED-TTL:P3D
REFRESH-INTERVAL:P3D
CALSCALE:GREGORIAN
BEGIN:VEVENT
DTSTART:20181127T160000Z
DTEND:20181127T163000Z
X-MICROSOFT-CDO-ALLDAYEVENT:FALSE
SUMMARY:Susan's Unique Boutique & Castaways Ribbon Cutting
DESCRIPTION:Join us as we celebrate the expansion of Susan's Unique Boutique to the upstairs of Castaways.
X-ALT-DESC;FMTTYPE=text/html:Join us as we celebrate the expansion of Susan&#39\;s Unique Boutique to the upstairs of Castaways.&nbsp\;
LOCATION:1372 N Kingshighway Cape Girardeau\, MO
UID:e.1421.5700
SEQUENCE:3
DTSTAMP:20260424T091613Z
URL:https://business.capechamber.com/events/details/susan-s-unique-boutique-castaways-ribbon-cutting-5700
END:VEVENT

END:VCALENDAR
