BEGIN:VCALENDAR
VERSION:2.0
PRODID:-//ChamberMaster//Event Calendar 2.0//EN
METHOD:PUBLISH
X-PUBLISHED-TTL:P3D
REFRESH-INTERVAL:P3D
CALSCALE:GREGORIAN
BEGIN:VEVENT
DTSTART:20170608T200000Z
DTEND:20170608T203000Z
X-MICROSOFT-CDO-ALLDAYEVENT:FALSE
SUMMARY:TalentForce Ribbon Cutting
DESCRIPTION:A ribbon cutting will be held at TalentForce to celebrate being under new local management with all new staff.
X-ALT-DESC;FMTTYPE=text/html:A ribbon cutting will be held at TalentForce to celebrate being under new local management with all new staff.
LOCATION:2520 William St. Cape Girardeau\, MO
UID:e.1421.757
SEQUENCE:3
DTSTAMP:20260423T100144Z
URL:https://business.capechamber.com/events/details/talentforce-ribbon-cutting-757
END:VEVENT

END:VCALENDAR
